BEGIN:VCALENDAR
VERSION:2.0
PRODID:-//Verdal Motorsenter - ECPv6.15.18//NONSGML v1.0//EN
CALSCALE:GREGORIAN
METHOD:PUBLISH
X-ORIGINAL-URL:https://verdalmotorsenter.no
X-WR-CALDESC:Arrangement for Verdal Motorsenter
REFRESH-INTERVAL;VALUE=DURATION:PT1H
X-Robots-Tag:noindex
X-PUBLISHED-TTL:PT1H
BEGIN:VTIMEZONE
TZID:Europe/Oslo
BEGIN:DAYLIGHT
TZOFFSETFROM:+0100
TZOFFSETTO:+0200
TZNAME:CEST
DTSTART:20230326T010000
END:DAYLIGHT
BEGIN:STANDARD
TZOFFSETFROM:+0200
TZOFFSETTO:+0100
TZNAME:CET
DTSTART:20231029T010000
END:STANDARD
BEGIN:DAYLIGHT
TZOFFSETFROM:+0100
TZOFFSETTO:+0200
TZNAME:CEST
DTSTART:20240331T010000
END:DAYLIGHT
BEGIN:STANDARD
TZOFFSETFROM:+0200
TZOFFSETTO:+0100
TZNAME:CET
DTSTART:20241027T010000
END:STANDARD
BEGIN:DAYLIGHT
TZOFFSETFROM:+0100
TZOFFSETTO:+0200
TZNAME:CEST
DTSTART:20250330T010000
END:DAYLIGHT
BEGIN:STANDARD
TZOFFSETFROM:+0200
TZOFFSETTO:+0100
TZNAME:CET
DTSTART:20251026T010000
END:STANDARD
END:VTIMEZONE
BEGIN:VEVENT
DTSTART;TZID=Europe/Oslo:20240723T090000
DTEND;TZID=Europe/Oslo:20240723T120000
DTSTAMP:20260421T101757
CREATED:20240626T183001Z
LAST-MODIFIED:20240626T183001Z
UID:1214-1721725200-1721736000@verdalmotorsenter.no
SUMMARY:Asfaltbane opptatt
DESCRIPTION:MC Elever: 1
URL:https://verdalmotorsenter.no/kalender/asfaltbane-opptatt-254-6/
END:VEVENT
BEGIN:VEVENT
DTSTART;TZID=Europe/Oslo:20240723T090000
DTEND;TZID=Europe/Oslo:20240723T120000
DTSTAMP:20260421T101757
CREATED:20240704T163304Z
LAST-MODIFIED:20240704T163304Z
UID:1221-1721725200-1721736000@verdalmotorsenter.no
SUMMARY:Asfaltbane opptatt
DESCRIPTION:MC Elever: 2
URL:https://verdalmotorsenter.no/kalender/asfaltbane-opptatt-254-12/
END:VEVENT
BEGIN:VEVENT
DTSTART;TZID=Europe/Oslo:20240723T104500
DTEND;TZID=Europe/Oslo:20240723T134500
DTSTAMP:20260421T101757
CREATED:20240722T092417Z
LAST-MODIFIED:20240722T092417Z
UID:1249-1721731500-1721742300@verdalmotorsenter.no
SUMMARY:Asfaltbane opptatt
DESCRIPTION:MC Elever: 1
URL:https://verdalmotorsenter.no/kalender/asfaltbane-opptatt-254-16/
END:VEVENT
END:VCALENDAR